BEGIN:VCALENDAR
VERSION:2.0
PRODID:-//Capitan Meza - ECPv6.15.20//NONSGML v1.0//EN
CALSCALE:GREGORIAN
METHOD:PUBLISH
X-ORIGINAL-URL:https://capitanmeza.com.py
X-WR-CALDESC:Eventos para Capitan Meza
REFRESH-INTERVAL;VALUE=DURATION:PT1H
X-Robots-Tag:noindex
X-PUBLISHED-TTL:PT1H
BEGIN:VTIMEZONE
TZID:America/Sao_Paulo
BEGIN:STANDARD
TZOFFSETFROM:-0300
TZOFFSETTO:-0300
TZNAME:-03
DTSTART:20240101T000000
END:STANDARD
END:VTIMEZONE
BEGIN:VEVENT
DTSTART;TZID=America/Sao_Paulo:20250809T080000
DTEND;TZID=America/Sao_Paulo:20250810T130000
DTSTAMP:20260425T100428
CREATED:20250807T193340Z
LAST-MODIFIED:20250807T193340Z
UID:27302-1754726400-1754830800@capitanmeza.com.py
SUMMARY:CONCURSO INTERNACIONAL DE LA PESCA VARIADA Y DE LA BOGA CON DEVOLUCION
DESCRIPTION:🎣 ¡Este fin de semana se vive la pasión por la pesca en Capitán Meza Puerto! \nLos días sábado 9 y domingo 10 de agosto\, las aguas del majestuoso río Paraná serán escenario del Concurso Internacional de Pesca Variada con Devolución y de la Boga\, uno de los eventos turísticos y deportivos más esperados de la región. \nCapitán Meza Puerto se prepara para recibir a pescadores de todo el país y del extranjero\, en un ambiente de camaradería\, naturaleza y competencia\, promoviendo además la pesca responsable y el cuidado de nuestros recursos naturales. \n🏆 Premios\, sorteos y mucho más esperan a los participantes\, junto con una cartelera artística\, feria gastronómica y actividades para toda la familia. \n📍¡No te lo pierdas! Te esperamos en Capitán Meza Puerto para vivir dos jornadas inolvidables junto al río. \n🛶 Organiza: Club de Pesca y Deportes Náuticos Capitán Meza
URL:https://capitanmeza.com.py/evento/concurso-internacional-de-la-pesca-variada-y-de-la-boga-con-devolucion/
LOCATION:Club De Pesca\, Playa Capitan Meza\, Capitan Meza
CATEGORIES:social
ATTACH;FMTTYPE=image/jpeg:https://capitanmeza.com.py/wp-content/uploads/2025/08/134.jpg
END:VEVENT
END:VCALENDAR