BEGIN:VCALENDAR
VERSION:2.0
PRODID:-//Capitan Meza - ECPv6.15.20//NONSGML v1.0//EN
CALSCALE:GREGORIAN
METHOD:PUBLISH
X-WR-CALNAME:Capitan Meza
X-ORIGINAL-URL:https://capitanmeza.com.py
X-WR-CALDESC:Eventos para Capitan Meza
REFRESH-INTERVAL;VALUE=DURATION:PT1H
X-Robots-Tag:noindex
X-PUBLISHED-TTL:PT1H
BEGIN:VTIMEZONE
TZID:America/Sao_Paulo
BEGIN:STANDARD
TZOFFSETFROM:-0300
TZOFFSETTO:-0300
TZNAME:-03
DTSTART:20240101T000000
END:STANDARD
END:VTIMEZONE
BEGIN:VEVENT
DTSTART;TZID=America/Sao_Paulo:20250710T160000
DTEND;TZID=America/Sao_Paulo:20250710T233000
DTSTAMP:20260425T101121
CREATED:20250709T155500Z
LAST-MODIFIED:20250709T155500Z
UID:25854-1752163200-1752190200@capitanmeza.com.py
SUMMARY:Gran inauguración de la Cancha de Piki y Vóley “ROLO” en Capitán Meza Km 24
DESCRIPTION:Este jueves 10 de julio desde las 16:00 horas\, se inaugura oficialmente la cancha de piki y vóley “ROLO”\, propiedad de Diego Rolando Roa\, ubicada en el cruce mismo de Capitán Meza Km 24. \nEl evento contará con emocionantes desafíos deportivos entre destacados jugadores de varios distritos: Obligado\, Edelira\, María Auxiliadora\, Pirapó\, Trinidad\, Itapúa Poty y Capitán Meza. \nAdemás\, el lugar ofrece un ambiente ideal para compartir en familia o con amigos: \n🥤 Bebidas refrescantes🍽️ Minutas🎱 Juegos de billar\n🎰 Tragamonedas🪑 Espacio amplio para disfrutar cómodamente. \n¡Te esperamos para vivir una tarde a puro deporte y diversión \n \n\n 
URL:https://capitanmeza.com.py/evento/gran-inauguracion-de-la-cancha-de-piki-y-voley-rolo-en-capitan-meza-km-24/
LOCATION:Capitan Meza\, -26.764033\, -55.385078 Capitán Meza\, 070403\, Capitan meza\, Paraguay
CATEGORIES:social
ATTACH;FMTTYPE=image/jpeg:https://capitanmeza.com.py/wp-content/uploads/2025/07/PIKI-ROLO-scaled.jpg
END:VEVENT
END:VCALENDAR